BEGIN:VCALENDAR
CALSCALE:GREGORIAN
X-WR-TIMEZONE;VALUE=TEXT:GMT
PRODID:PEAK Corporation - piCal -
X-WR-CALNAME;VALUE=TEXT:§A¥²¶·¬¡¦b·í¤U¡AÀH¹J¦Ó¦w¡A¦b¨C­Ó«b¨º´M§ä¥Ã«í¡]±ôÃ¹¡^
VERSION:2.0
METHOD:PUBLISH
BEGIN:VTIMEZONE
TZID:GMT
BEGIN:STANDARD
DTSTART:19390101T000000
TZOFFSETFROM:+0000
TZOFFSETTO:+0000
TZNAME:GMT
END:STANDARD
END:VTIMEZONE
BEGIN:VEVENT
DTSTART;VALUE=DATE:20080602
DTEND;VALUE=DATE:20080603
LOCATION:
TRANSP:OPAQUE
SEQUENCE:0
UID:pical060-ef86cc6eff1dbe2738bc9836966cf9a3
DTSTAMP:20071226T152014Z
CATEGORIES:
DESCRIPTION:
SUMMARY:§A¥²¶·¬¡¦b·í¤U¡AÀH¹J¦Ó¦w¡A¦b¨C­Ó«b¨º´M§ä¥Ã«í¡]±ôÃ¹¡^
RRULE:FREQ=YEARLY;INTERVAL=1;BYMONTH=6;WKST=SU
PRIORITY:0
CLASS:PUBLIC
END:VEVENT
END:VCALENDAR
