BEGIN:VCALENDAR
CALSCALE:GREGORIAN
X-WR-TIMEZONE;VALUE=TEXT:GMT
PRODID:PEAK Corporation - piCal -
X-WR-CALNAME;VALUE=TEXT:·P®¦¬O¨­¤ßºì©ñ¥X¨Óªº³Ì¬üªá¦·
VERSION:2.0
METHOD:PUBLISH
BEGIN:VTIMEZONE
TZID:GMT
BEGIN:STANDARD
DTSTART:19390101T000000
TZOFFSETFROM:+0000
TZOFFSETTO:+0000
TZNAME:GMT
END:STANDARD
END:VTIMEZONE
BEGIN:VEVENT
DTSTART;VALUE=DATE:20080603
DTEND;VALUE=DATE:20080604
LOCATION:
TRANSP:OPAQUE
SEQUENCE:0
UID:pical060-e4cbe04cb809a2f0664600386bc11c6a
DTSTAMP:20071226T152045Z
CATEGORIES:
DESCRIPTION:
SUMMARY:·P®¦¬O¨­¤ßºì©ñ¥X¨Óªº³Ì¬üªá¦·
RRULE:FREQ=YEARLY;INTERVAL=1;BYMONTH=6;WKST=SU
PRIORITY:0
CLASS:PUBLIC
END:VEVENT
END:VCALENDAR
