BEGIN:VCALENDAR
CALSCALE:GREGORIAN
X-WR-TIMEZONE;VALUE=TEXT:GMT
PRODID:PEAK Corporation - piCal -
X-WR-CALNAME;VALUE=TEXT:¦Û«H¬OÂ×¥\°¶ÁZªº­º­n±ø¥ó
VERSION:2.0
METHOD:PUBLISH
BEGIN:VTIMEZONE
TZID:GMT
BEGIN:STANDARD
DTSTART:19390101T000000
TZOFFSETFROM:+0000
TZOFFSETTO:+0000
TZNAME:GMT
END:STANDARD
END:VTIMEZONE
BEGIN:VEVENT
DTSTART;VALUE=DATE:20080604
DTEND;VALUE=DATE:20080605
LOCATION:
TRANSP:OPAQUE
SEQUENCE:0
UID:pical060-f30af2992a0c8bde4f39eb9e3b4a10fd
DTSTAMP:20071226T152126Z
CATEGORIES:
DESCRIPTION:
SUMMARY:¦Û«H¬OÂ×¥\°¶ÁZªº­º­n±ø¥ó
RRULE:FREQ=YEARLY;INTERVAL=1;BYMONTH=6;WKST=SU
PRIORITY:0
CLASS:PUBLIC
END:VEVENT
END:VCALENDAR
