BEGIN:VCALENDAR
CALSCALE:GREGORIAN
X-WR-TIMEZONE;VALUE=TEXT:GMT
PRODID:PEAK Corporation - piCal -
X-WR-CALNAME;VALUE=TEXT: ³h¦ÓµL½Ô¡A´I¦ÓµLÅº¡G³h½a®É¤£¦Û¨õ¡A´I¶Q®É¥ç¤£Åº¶Æ
VERSION:2.0
METHOD:PUBLISH
BEGIN:VTIMEZONE
TZID:GMT
BEGIN:STANDARD
DTSTART:19390101T000000
TZOFFSETFROM:+0000
TZOFFSETTO:+0000
TZNAME:GMT
END:STANDARD
END:VTIMEZONE
BEGIN:VEVENT
DTSTART;VALUE=DATE:20080605
DTEND;VALUE=DATE:20080606
LOCATION:
TRANSP:OPAQUE
SEQUENCE:0
UID:pical060-f4a7e72a28f829ff5105231fc5c64c47
DTSTAMP:20071226T152300Z
CATEGORIES:
DESCRIPTION:
SUMMARY: ³h¦ÓµL½Ô¡A´I¦ÓµLÅº¡G³h½a®É¤£¦Û¨õ¡A´I¶Q®É¥ç¤£Åº¶Æ
RRULE:FREQ=YEARLY;INTERVAL=1;BYMONTH=6;WKST=SU
PRIORITY:0
CLASS:PUBLIC
END:VEVENT
END:VCALENDAR
