BEGIN:VCALENDAR
CALSCALE:GREGORIAN
X-WR-TIMEZONE;VALUE=TEXT:GMT
PRODID:PEAK Corporation - piCal -
X-WR-CALNAME;VALUE=TEXT:®¤¡G¤v©Ò¤£±ý¡A¤Å¬I©ó¤H¡C´N¿n·¥­±¦Ó¨¥¡G¡u±À¤v¤Î¤H¡v¡u¤w¥ß¥ß¤H¡B¤w¹F¹F¤H¡v¡u¤H°§¤w°§¡A¤H·Ä¤w·Ä¡vªººë¯«
VERSION:2.0
METHOD:PUBLISH
BEGIN:VTIMEZONE
TZID:GMT
BEGIN:STANDARD
DTSTART:19390101T000000
TZOFFSETFROM:+0000
TZOFFSETTO:+0000
TZNAME:GMT
END:STANDARD
END:VTIMEZONE
BEGIN:VEVENT
DTSTART;VALUE=DATE:20080606
DTEND;VALUE=DATE:20080607
LOCATION:
TRANSP:OPAQUE
SEQUENCE:0
UID:pical060-d51a8bb7c1be55b452be7194531fdca3
DTSTAMP:20071226T152334Z
CATEGORIES:
DESCRIPTION:
SUMMARY:®¤¡G¤v©Ò¤£±ý¡A¤Å¬I©ó¤H¡C´N¿n·¥­±¦Ó¨¥¡G¡u±À¤v¤Î¤H¡v¡u¤w¥ß¥ß¤H¡B¤w¹F¹F¤H¡v¡u¤H°§¤w°§¡A¤H·Ä¤w·Ä¡vªººë¯«
RRULE:FREQ=YEARLY;INTERVAL=1;BYMONTH=6;WKST=SU
PRIORITY:0
CLASS:PUBLIC
END:VEVENT
END:VCALENDAR
