BEGIN:VCALENDAR
CALSCALE:GREGORIAN
X-WR-TIMEZONE;VALUE=TEXT:GMT
PRODID:PEAK Corporation - piCal -
X-WR-CALNAME;VALUE=TEXT:§õ¥@¥Á¦b­sÆ[¬F­n¡G¡u¤H¤£¥i¥H¨D¨ä³Æ¡A¥²±Ë¨ä©Òµu¡A¨ú¨ä©Òªø¡C¡v
VERSION:2.0
METHOD:PUBLISH
BEGIN:VTIMEZONE
TZID:GMT
BEGIN:STANDARD
DTSTART:19390101T000000
TZOFFSETFROM:+0000
TZOFFSETTO:+0000
TZNAME:GMT
END:STANDARD
END:VTIMEZONE
BEGIN:VEVENT
DTSTART;VALUE=DATE:20080609
DTEND;VALUE=DATE:20080610
LOCATION:
TRANSP:OPAQUE
SEQUENCE:0
UID:pical060-842680ce5c5f9564bce2dc1f6a5f5cf8
DTSTAMP:20071229T161222Z
CATEGORIES:
DESCRIPTION:
SUMMARY:§õ¥@¥Á¦b­sÆ[¬F­n¡G¡u¤H¤£¥i¥H¨D¨ä³Æ¡A¥²±Ë¨ä©Òµu¡A¨ú¨ä©Òªø¡C¡v
RRULE:FREQ=YEARLY;INTERVAL=1;BYMONTH=6;WKST=SU
PRIORITY:0
CLASS:PUBLIC
END:VEVENT
END:VCALENDAR
