BEGIN:VCALENDAR
CALSCALE:GREGORIAN
X-WR-TIMEZONE;VALUE=TEXT:GMT
PRODID:PEAK Corporation - piCal -
X-WR-CALNAME;VALUE=TEXT:&#8226;	®õºqº¸¡G¡u°ß¦³¾Ç²ß¤£¤wªº¦Ñ®v¡A¤~¯à»{¯uªº±Ð¡A°ß¦³¿U¿N¦Û¤v¡A¤~¯àÂI«G¥L¤Hªº¿O¡C¡v
VERSION:2.0
METHOD:PUBLISH
BEGIN:VTIMEZONE
TZID:GMT
BEGIN:STANDARD
DTSTART:19390101T000000
TZOFFSETFROM:+0000
TZOFFSETTO:+0000
TZNAME:GMT
END:STANDARD
END:VTIMEZONE
BEGIN:VEVENT
DTSTART;VALUE=DATE:20080610
DTEND;VALUE=DATE:20080611
LOCATION:
TRANSP:OPAQUE
SEQUENCE:0
UID:pical060-fbb0eaa33be45a11f6704322c11f2181
DTSTAMP:20071229T161312Z
CATEGORIES:
DESCRIPTION:
SUMMARY:&#8226;	®õºqº¸¡G¡u°ß¦³¾Ç²ß¤£¤wªº¦Ñ®v¡A¤~¯à»{¯uªº±Ð¡A°ß¦³¿U¿N¦Û¤v¡A¤~¯àÂI«G¥L¤Hªº¿O¡C¡v
RRULE:FREQ=YEARLY;INTERVAL=1;BYMONTH=6;WKST=SU
PRIORITY:0
CLASS:PUBLIC
END:VEVENT
END:VCALENDAR
