BEGIN:VCALENDAR
CALSCALE:GREGORIAN
X-WR-TIMEZONE;VALUE=TEXT:GMT
PRODID:PEAK Corporation - piCal -
X-WR-CALNAME;VALUE=TEXT:¿½§B¯Ç¡G¡u§Ú¤£¬Û«H³y¤Æ§Ë¤H¡A¦b³o­Ó¥@¬É¤W¡A¥X¤HÀY¦aªº¤H³£¬O¹BÄw±cØò¡A¥D°Ê§ä´M¦Û¤v·Q­nªºÀô¹Ò¡C­n¬O¹M´M¤£Àò¡A¥L­Ì´N³Ð³y¤@­Ó¡C¡v
VERSION:2.0
METHOD:PUBLISH
BEGIN:VTIMEZONE
TZID:GMT
BEGIN:STANDARD
DTSTART:19390101T000000
TZOFFSETFROM:+0000
TZOFFSETTO:+0000
TZNAME:GMT
END:STANDARD
END:VTIMEZONE
BEGIN:VEVENT
DTSTART;VALUE=DATE:20080617
DTEND;VALUE=DATE:20080618
LOCATION:
TRANSP:OPAQUE
SEQUENCE:0
UID:pical060-b19d477d5ce7477c02ff5d47d4a8f4b5
DTSTAMP:20071231T085835Z
CATEGORIES:
DESCRIPTION:
SUMMARY:¿½§B¯Ç¡G¡u§Ú¤£¬Û«H³y¤Æ§Ë¤H¡A¦b³o­Ó¥@¬É¤W¡A¥X¤HÀY¦aªº¤H³£¬O¹BÄw±cØò¡A¥D°Ê§ä´M¦Û¤v·Q­nªºÀô¹Ò¡C­n¬O¹M´M¤£Àò¡A¥L­Ì´N³Ð³y¤@­Ó¡C¡v
RRULE:FREQ=YEARLY;INTERVAL=1;BYMONTH=6;WKST=SU
PRIORITY:0
CLASS:PUBLIC
END:VEVENT
END:VCALENDAR
