BEGIN:VCALENDAR
CALSCALE:GREGORIAN
X-WR-TIMEZONE;VALUE=TEXT:GMT
PRODID:PEAK Corporation - piCal -
X-WR-CALNAME;VALUE=TEXT:&#8226;	¿n·¥ªº¤H¹³¤Ó¶§¡A¨«¨ì­þ¨à«G¨ì­þ¡A®ø·¥ªº¤H¹³¤ë«G¡A¥X¤@¤Q¤­¤£¤@¼Ë¡C²z·Q¤¤ªº±Ð§ï¬O¡u¥Í©ó¤Ó¶§¡A¨Ã´Â¥L¶}©Þ¡A¦bÂA¬¡ªºªÅ®ð¸Ì¯d¤UºaÄ£ªºÃ±¦W¡I¡v
VERSION:2.0
METHOD:PUBLISH
BEGIN:VTIMEZONE
TZID:GMT
BEGIN:STANDARD
DTSTART:19390101T000000
TZOFFSETFROM:+0000
TZOFFSETTO:+0000
TZNAME:GMT
END:STANDARD
END:VTIMEZONE
BEGIN:VEVENT
DTSTART;VALUE=DATE:20080622
DTEND;VALUE=DATE:20080623
LOCATION:
TRANSP:OPAQUE
SEQUENCE:0
UID:pical060-2f4c9bed6907f4c03f4e120fc2438c39
DTSTAMP:20071231T090458Z
CATEGORIES:
DESCRIPTION:
SUMMARY:&#8226;	¿n·¥ªº¤H¹³¤Ó¶§¡A¨«¨ì­þ¨à«G¨ì­þ¡A®ø·¥ªº¤H¹³¤ë«G¡A¥X¤@¤Q¤­¤£¤@¼Ë¡C²z·Q¤¤ªº±Ð§ï¬O¡u¥Í©ó¤Ó¶§¡A¨Ã´Â¥L¶}©Þ¡A¦bÂA¬¡ªºªÅ®ð¸Ì¯d¤UºaÄ£ªºÃ±¦W¡I¡v
RRULE:FREQ=YEARLY;INTERVAL=1;BYMONTH=6;WKST=SU
PRIORITY:0
CLASS:PUBLIC
END:VEVENT
END:VCALENDAR
