BEGIN:VCALENDAR
CALSCALE:GREGORIAN
X-WR-TIMEZONE;VALUE=TEXT:GMT
PRODID:PEAK Corporation - piCal -
X-WR-CALNAME;VALUE=TEXT:¤@®Éªº¿ù»~¤£ºâ¤°»ò¡A¿ù¦Ó¤£§ï¤~¬O¤@¥Í¤¤¥Ã»·¥B³Ì¤jªº¿ù»~¡C
VERSION:2.0
METHOD:PUBLISH
BEGIN:VTIMEZONE
TZID:GMT
BEGIN:STANDARD
DTSTART:19390101T000000
TZOFFSETFROM:+0000
TZOFFSETTO:+0000
TZNAME:GMT
END:STANDARD
END:VTIMEZONE
BEGIN:VEVENT
DTSTART;VALUE=DATE:20080623
DTEND;VALUE=DATE:20080624
LOCATION:
TRANSP:OPAQUE
SEQUENCE:0
UID:pical060-385511c194c524f39ab0889aae08797a
DTSTAMP:20071231T090532Z
CATEGORIES:
DESCRIPTION:
SUMMARY:¤@®Éªº¿ù»~¤£ºâ¤°»ò¡A¿ù¦Ó¤£§ï¤~¬O¤@¥Í¤¤¥Ã»·¥B³Ì¤jªº¿ù»~¡C
RRULE:FREQ=YEARLY;INTERVAL=1;BYMONTH=6;WKST=SU
PRIORITY:0
CLASS:PUBLIC
END:VEVENT
END:VCALENDAR
