BEGIN:VCALENDAR
CALSCALE:GREGORIAN
X-WR-TIMEZONE;VALUE=TEXT:GMT
PRODID:PEAK Corporation - piCal -
X-WR-CALNAME;VALUE=TEXT:&#8226;	±Ð¨|¬O¤HÃþªº§Æ±æ¤uµ{¡C³Â¬Ù²z¤u¾Ç°|±ôÃ¹±Ð±Â»¡¡G¡u±Ð¨|¥²µM¬O°ê®aÄvª§¤OªºÃöÁä¡I¡v
VERSION:2.0
METHOD:PUBLISH
BEGIN:VTIMEZONE
TZID:GMT
BEGIN:STANDARD
DTSTART:19390101T000000
TZOFFSETFROM:+0000
TZOFFSETTO:+0000
TZNAME:GMT
END:STANDARD
END:VTIMEZONE
BEGIN:VEVENT
DTSTART;VALUE=DATE:20080624
DTEND;VALUE=DATE:20080625
LOCATION:
TRANSP:OPAQUE
SEQUENCE:0
UID:pical060-4be6910cf7f13fd1e32b1fcf59285029
DTSTAMP:20071231T090645Z
CATEGORIES:
DESCRIPTION:
SUMMARY:&#8226;	±Ð¨|¬O¤HÃþªº§Æ±æ¤uµ{¡C³Â¬Ù²z¤u¾Ç°|±ôÃ¹±Ð±Â»¡¡G¡u±Ð¨|¥²µM¬O°ê®aÄvª§¤OªºÃöÁä¡I¡v
RRULE:FREQ=YEARLY;INTERVAL=1;BYMONTH=6;WKST=SU
PRIORITY:0
CLASS:PUBLIC
END:VEVENT
END:VCALENDAR
