BEGIN:VCALENDAR
CALSCALE:GREGORIAN
X-WR-TIMEZONE;VALUE=TEXT:GMT
PRODID:PEAK Corporation - piCal -
X-WR-CALNAME;VALUE=TEXT:´±¡u»{¦Û¤vªº¤£¬O¡v¡BªÖ¡uª¾¿ù¯à§ï¡vªº³t«×·U§Ö¡A¦¨¥\ªº³t«×´N·U§Ö¡C
VERSION:2.0
METHOD:PUBLISH
BEGIN:VTIMEZONE
TZID:GMT
BEGIN:STANDARD
DTSTART:19390101T000000
TZOFFSETFROM:+0000
TZOFFSETTO:+0000
TZNAME:GMT
END:STANDARD
END:VTIMEZONE
BEGIN:VEVENT
DTSTART;VALUE=DATE:20080701
DTEND;VALUE=DATE:20080702
LOCATION:
TRANSP:OPAQUE
SEQUENCE:0
UID:pical060-4b228aaafeb8a94b986eefa94b546564
DTSTAMP:20071231T091401Z
CATEGORIES:
DESCRIPTION:
SUMMARY:´±¡u»{¦Û¤vªº¤£¬O¡v¡BªÖ¡uª¾¿ù¯à§ï¡vªº³t«×·U§Ö¡A¦¨¥\ªº³t«×´N·U§Ö¡C
RRULE:FREQ=YEARLY;INTERVAL=1;BYMONTH=7;WKST=SU
PRIORITY:0
CLASS:PUBLIC
END:VEVENT
END:VCALENDAR
