BEGIN:VCALENDAR
CALSCALE:GREGORIAN
X-WR-TIMEZONE;VALUE=TEXT:GMT
PRODID:PEAK Corporation - piCal -
X-WR-CALNAME;VALUE=TEXT:¦ÛµM¬É©Ò¦³ªº¥Í©RÅé¥u­n¬X³n¡A³£ªí¥ÜµÛ¥Í¾÷¯sµM¡BµL­­¦¨ªøªº¾÷·|¡C¶¶¶Õ¦Ó¥Í¡B¶¶¶Õ¦Ó¬°¡Aªí¥ÜµÛ¬X³n¤ß¡B¤£°õµÛ¡C¬JµM¤£°õµÛ¡A¤ß¤¤¦ÛµMµLÖñÃª
VERSION:2.0
METHOD:PUBLISH
BEGIN:VTIMEZONE
TZID:GMT
BEGIN:STANDARD
DTSTART:19390101T000000
TZOFFSETFROM:+0000
TZOFFSETTO:+0000
TZNAME:GMT
END:STANDARD
END:VTIMEZONE
BEGIN:VEVENT
DTSTART;VALUE=DATE:20080703
DTEND;VALUE=DATE:20080704
LOCATION:
TRANSP:OPAQUE
SEQUENCE:0
UID:pical060-040bc6fa743e35f8be18b2caeeb12cc4
DTSTAMP:20080102T053350Z
CATEGORIES:
DESCRIPTION:
SUMMARY:¦ÛµM¬É©Ò¦³ªº¥Í©RÅé¥u­n¬X³n¡A³£ªí¥ÜµÛ¥Í¾÷¯sµM¡BµL­­¦¨ªøªº¾÷·|¡C¶¶¶Õ¦Ó¥Í¡B¶¶¶Õ¦Ó¬°¡Aªí¥ÜµÛ¬X³n¤ß¡B¤£°õµÛ¡C¬JµM¤£°õµÛ¡A¤ß¤¤¦ÛµMµLÖñÃª
RRULE:FREQ=YEARLY;INTERVAL=1;BYMONTH=7;WKST=SU
PRIORITY:0
CLASS:PUBLIC
END:VEVENT
END:VCALENDAR
