BEGIN:VCALENDAR
CALSCALE:GREGORIAN
X-WR-TIMEZONE;VALUE=TEXT:GMT
PRODID:PEAK Corporation - piCal -
X-WR-CALNAME;VALUE=TEXT:¤Z¬O¥H¤¯¸q¬°©À¡A¥H·O´d¬°Ãhªº¤H¡AÁ`¬O¦b©Ê®æ¤W¤é¶i¨ä¼w¡A¿²©ó¬üµ½¡AµM«á¦Û°Ê³zÅã¥X¤H©Êªº¥úµØ¡C
VERSION:2.0
METHOD:PUBLISH
BEGIN:VTIMEZONE
TZID:GMT
BEGIN:STANDARD
DTSTART:19390101T000000
TZOFFSETFROM:+0000
TZOFFSETTO:+0000
TZNAME:GMT
END:STANDARD
END:VTIMEZONE
BEGIN:VEVENT
DTSTART;VALUE=DATE:20080705
DTEND;VALUE=DATE:20080706
LOCATION:
TRANSP:OPAQUE
SEQUENCE:0
UID:pical060-c3fa455a98eaa09ff0073d595c84c8fe
DTSTAMP:20080102T053453Z
CATEGORIES:
DESCRIPTION:
SUMMARY:¤Z¬O¥H¤¯¸q¬°©À¡A¥H·O´d¬°Ãhªº¤H¡AÁ`¬O¦b©Ê®æ¤W¤é¶i¨ä¼w¡A¿²©ó¬üµ½¡AµM«á¦Û°Ê³zÅã¥X¤H©Êªº¥úµØ¡C
RRULE:FREQ=YEARLY;INTERVAL=1;BYMONTH=7;WKST=SU
PRIORITY:0
CLASS:PUBLIC
END:VEVENT
END:VCALENDAR
