BEGIN:VCALENDAR
CALSCALE:GREGORIAN
X-WR-TIMEZONE;VALUE=TEXT:GMT
PRODID:PEAK Corporation - piCal -
X-WR-CALNAME;VALUE=TEXT:¨C°µ¤@¦¸¿ï¾Ü¡A´N¬Oµ¹¤H¥Í²K¤W¤@µ§¾¥±m¡A¤[¦Ó¤[¤§¡A½ü¹øº¥º¥ÂA©ú¡A¬O¤@´TºÀÄRÄ£¥Øªº¤sªe¤j¦a¡AÁÙ¬O¤@´T²M·s¥i³ßªº¤p¾ô¬y¤ô¡A¬Æ¦Ü¬O¤@´T¤£µÛÃä»Úªº¼g·N¤p«~¡A¨ä¤¤¦³¦h¤Ö±Ñµ§¡H¤U¤@µ§¸Ó«ç»ò¸¨¡H
VERSION:2.0
METHOD:PUBLISH
BEGIN:VTIMEZONE
TZID:GMT
BEGIN:STANDARD
DTSTART:19390101T000000
TZOFFSETFROM:+0000
TZOFFSETTO:+0000
TZNAME:GMT
END:STANDARD
END:VTIMEZONE
BEGIN:VEVENT
DTSTART;VALUE=DATE:20080706
DTEND;VALUE=DATE:20080707
LOCATION:
TRANSP:OPAQUE
SEQUENCE:0
UID:pical060-35d37b0733f6de07449d5c6d20267e9e
DTSTAMP:20080102T053535Z
CATEGORIES:
DESCRIPTION:
SUMMARY:¨C°µ¤@¦¸¿ï¾Ü¡A´N¬Oµ¹¤H¥Í²K¤W¤@µ§¾¥±m¡A¤[¦Ó¤[¤§¡A½ü¹øº¥º¥ÂA©ú¡A¬O¤@´TºÀÄRÄ£¥Øªº¤sªe¤j¦a¡AÁÙ¬O¤@´T²M·s¥i³ßªº¤p¾ô¬y¤ô¡A¬Æ¦Ü¬O¤@´T¤£µÛÃä»Úªº¼g·N¤p«~¡A¨ä¤¤¦³¦h¤Ö±Ñµ§¡H¤U¤@µ§¸Ó«ç»ò¸¨¡H
RRULE:FREQ=YEARLY;INTERVAL=1;BYMONTH=7;WKST=SU
PRIORITY:0
CLASS:PUBLIC
END:VEVENT
END:VCALENDAR
