BEGIN:VCALENDAR
CALSCALE:GREGORIAN
X-WR-TIMEZONE;VALUE=TEXT:GMT
PRODID:PEAK Corporation - piCal -
X-WR-CALNAME;VALUE=TEXT: ¦hÅª¨â¥»®Ñ¡A¤Ö»¡¤@¥y¸Ü¡A¦h°µ¤T¥ó¨Æ¡A¤Ö¶û¤@­Ó¤H
VERSION:2.0
METHOD:PUBLISH
BEGIN:VTIMEZONE
TZID:GMT
BEGIN:STANDARD
DTSTART:19390101T000000
TZOFFSETFROM:+0000
TZOFFSETTO:+0000
TZNAME:GMT
END:STANDARD
END:VTIMEZONE
BEGIN:VEVENT
DTSTART;VALUE=DATE:20080708
DTEND;VALUE=DATE:20080709
LOCATION:
TRANSP:OPAQUE
SEQUENCE:0
UID:pical060-42e511fb8b3d37d07dca63fc11cd4516
DTSTAMP:20080102T053642Z
CATEGORIES:
DESCRIPTION:
SUMMARY: ¦hÅª¨â¥»®Ñ¡A¤Ö»¡¤@¥y¸Ü¡A¦h°µ¤T¥ó¨Æ¡A¤Ö¶û¤@­Ó¤H
RRULE:FREQ=YEARLY;INTERVAL=1;BYMONTH=7;WKST=SU
PRIORITY:0
CLASS:PUBLIC
END:VEVENT
END:VCALENDAR
