BEGIN:VCALENDAR
CALSCALE:GREGORIAN
X-WR-TIMEZONE;VALUE=TEXT:GMT
PRODID:PEAK Corporation - piCal -
X-WR-CALNAME;VALUE=TEXT: ¨C­Ó¤Hªº¡u¤ßÆF²Óµß¡v¦³«Ü¦h¡A¦p¦Û¼É¦Û±ó¡B¤@ÃÝ¤£®¶¡B¦n¶h´c³Ò¡B±o¹L¥B¹L¡B¼Å­l¤F¨Æ¡B´Â¤T¼Ç¥|¡B¦n°ªõ­»·¡C
VERSION:2.0
METHOD:PUBLISH
BEGIN:VTIMEZONE
TZID:GMT
BEGIN:STANDARD
DTSTART:19390101T000000
TZOFFSETFROM:+0000
TZOFFSETTO:+0000
TZNAME:GMT
END:STANDARD
END:VTIMEZONE
BEGIN:VEVENT
DTSTART;VALUE=DATE:20080709
DTEND;VALUE=DATE:20080710
LOCATION:
TRANSP:OPAQUE
SEQUENCE:0
UID:pical060-e9d2995f56c1355977fe4b11ce4abbd6
DTSTAMP:20080102T053703Z
CATEGORIES:
DESCRIPTION:
SUMMARY: ¨C­Ó¤Hªº¡u¤ßÆF²Óµß¡v¦³«Ü¦h¡A¦p¦Û¼É¦Û±ó¡B¤@ÃÝ¤£®¶¡B¦n¶h´c³Ò¡B±o¹L¥B¹L¡B¼Å­l¤F¨Æ¡B´Â¤T¼Ç¥|¡B¦n°ªõ­»·¡C
RRULE:FREQ=YEARLY;INTERVAL=1;BYMONTH=7;WKST=SU
PRIORITY:0
CLASS:PUBLIC
END:VEVENT
END:VCALENDAR
