BEGIN:VCALENDAR
CALSCALE:GREGORIAN
X-WR-TIMEZONE;VALUE=TEXT:GMT
PRODID:PEAK Corporation - piCal -
X-WR-CALNAME;VALUE=TEXT:¤H¡AÁ`¬O­nÀy§Ó¤d¦Ê¹M¡A¤~¯à¶i¨B¤@ÂIÂI¡F¤]Á`¬O­nµ¥¨ì¨Ó¤£¤Î¡A¤~ª¾¹D¤£¦A¦³®É¶¡¡C
VERSION:2.0
METHOD:PUBLISH
BEGIN:VTIMEZONE
TZID:GMT
BEGIN:STANDARD
DTSTART:19390101T000000
TZOFFSETFROM:+0000
TZOFFSETTO:+0000
TZNAME:GMT
END:STANDARD
END:VTIMEZONE
BEGIN:VEVENT
DTSTART;VALUE=DATE:20080711
DTEND;VALUE=DATE:20080712
LOCATION:
TRANSP:OPAQUE
SEQUENCE:0
UID:pical060-f443d445b1e8e350a210e66421f195d6
DTSTAMP:20080102T053915Z
CATEGORIES:
DESCRIPTION:
SUMMARY:¤H¡AÁ`¬O­nÀy§Ó¤d¦Ê¹M¡A¤~¯à¶i¨B¤@ÂIÂI¡F¤]Á`¬O­nµ¥¨ì¨Ó¤£¤Î¡A¤~ª¾¹D¤£¦A¦³®É¶¡¡C
RRULE:FREQ=YEARLY;INTERVAL=1;BYMONTH=7;WKST=SU
PRIORITY:0
CLASS:PUBLIC
END:VEVENT
END:VCALENDAR
