BEGIN:VCALENDAR
CALSCALE:GREGORIAN
X-WR-TIMEZONE;VALUE=TEXT:GMT
PRODID:PEAK Corporation - piCal -
X-WR-CALNAME;VALUE=TEXT:¶}©ñªººA«×¡A¨Ï¤H«ÈÆ[¡A¯àª`·NÅÜ³qªº¥i¯à©Ê¡A¦ÛÄ±»PÀô¹Ò¬Û¿Ä¦X
VERSION:2.0
METHOD:PUBLISH
BEGIN:VTIMEZONE
TZID:GMT
BEGIN:STANDARD
DTSTART:19390101T000000
TZOFFSETFROM:+0000
TZOFFSETTO:+0000
TZNAME:GMT
END:STANDARD
END:VTIMEZONE
BEGIN:VEVENT
DTSTART;VALUE=DATE:20080715
DTEND;VALUE=DATE:20080716
LOCATION:
TRANSP:OPAQUE
SEQUENCE:0
UID:pical060-c2ba7fbc3c8de04f7066531f1903ef3e
DTSTAMP:20080106T114723Z
CATEGORIES:
DESCRIPTION:
SUMMARY:¶}©ñªººA«×¡A¨Ï¤H«ÈÆ[¡A¯àª`·NÅÜ³qªº¥i¯à©Ê¡A¦ÛÄ±»PÀô¹Ò¬Û¿Ä¦X
RRULE:FREQ=YEARLY;INTERVAL=1;BYMONTH=7;WKST=SU
PRIORITY:0
CLASS:PUBLIC
END:VEVENT
END:VCALENDAR
