BEGIN:VCALENDAR
CALSCALE:GREGORIAN
X-WR-TIMEZONE;VALUE=TEXT:GMT
PRODID:PEAK Corporation - piCal -
X-WR-CALNAME;VALUE=TEXT:¥Ø¼Ð¬O¤°»ò¤£­«­n¡A¥Ø¼Ð¯à²£¥Í¤°»ò¼Ëªº®ÄªG¤~­«­n¡C§Ú­Ìºt¬¡¤°»ò¤H¡A«K¦¨¬°¤°»ò¤H¡C--¥§¼¯¥ì
VERSION:2.0
METHOD:PUBLISH
BEGIN:VTIMEZONE
TZID:GMT
BEGIN:STANDARD
DTSTART:19390101T000000
TZOFFSETFROM:+0000
TZOFFSETTO:+0000
TZNAME:GMT
END:STANDARD
END:VTIMEZONE
BEGIN:VEVENT
DTSTART;VALUE=DATE:20080804
DTEND;VALUE=DATE:20080805
LOCATION:
TRANSP:OPAQUE
SEQUENCE:0
UID:pical060-ca445ca9d6af31bc848edbb42b3aeba1
DTSTAMP:20080124T135119Z
CATEGORIES:
DESCRIPTION:
SUMMARY:¥Ø¼Ð¬O¤°»ò¤£­«­n¡A¥Ø¼Ð¯à²£¥Í¤°»ò¼Ëªº®ÄªG¤~­«­n¡C§Ú­Ìºt¬¡¤°»ò¤H¡A«K¦¨¬°¤°»ò¤H¡C--¥§¼¯¥ì
RRULE:FREQ=YEARLY;INTERVAL=1;BYMONTH=8;WKST=SU
PRIORITY:0
CLASS:PUBLIC
END:VEVENT
END:VCALENDAR
