BEGIN:VCALENDAR
CALSCALE:GREGORIAN
X-WR-TIMEZONE;VALUE=TEXT:GMT
PRODID:PEAK Corporation - piCal -
X-WR-CALNAME;VALUE=TEXT:&#8226;	¦pªG¦¨¬°¤@¤ä¤õ®ã¡A¤]­nÂI«G¤@­Óµu¼Èªº¦t©z¡F¦pªG¬O¤@°¦¯Q¾~¡A¤]­n¥s¯k³¬¶ëªº¦Õ½¤¡C
VERSION:2.0
METHOD:PUBLISH
BEGIN:VTIMEZONE
TZID:GMT
BEGIN:STANDARD
DTSTART:19390101T000000
TZOFFSETFROM:+0000
TZOFFSETTO:+0000
TZNAME:GMT
END:STANDARD
END:VTIMEZONE
BEGIN:VEVENT
DTSTART;VALUE=DATE:20080808
DTEND;VALUE=DATE:20080809
LOCATION:
TRANSP:OPAQUE
SEQUENCE:0
UID:pical060-1d3897043f351f57ac29217caf74a369
DTSTAMP:20080124T135346Z
CATEGORIES:
DESCRIPTION:
SUMMARY:&#8226;	¦pªG¦¨¬°¤@¤ä¤õ®ã¡A¤]­nÂI«G¤@­Óµu¼Èªº¦t©z¡F¦pªG¬O¤@°¦¯Q¾~¡A¤]­n¥s¯k³¬¶ëªº¦Õ½¤¡C
RRULE:FREQ=YEARLY;INTERVAL=1;BYMONTH=8;WKST=SU
PRIORITY:0
CLASS:PUBLIC
END:VEVENT
END:VCALENDAR
