BEGIN:VCALENDAR
CALSCALE:GREGORIAN
X-WR-TIMEZONE;VALUE=TEXT:GMT
PRODID:PEAK Corporation - piCal -
X-WR-CALNAME;VALUE=TEXT:·RÀq¥Í¡G¡u¦VµÛ¬P²yªøÅXª½¶iªº¤H¡A¤Ï¤ñ½ó÷]¦b®l¸ô¤Wªº¤H¡A§ó®e©ö¹F¨ì¥Øªº¡C¡v
VERSION:2.0
METHOD:PUBLISH
BEGIN:VTIMEZONE
TZID:GMT
BEGIN:STANDARD
DTSTART:19390101T000000
TZOFFSETFROM:+0000
TZOFFSETTO:+0000
TZNAME:GMT
END:STANDARD
END:VTIMEZONE
BEGIN:VEVENT
DTSTART;VALUE=DATE:20080809
DTEND;VALUE=DATE:20080810
LOCATION:
TRANSP:OPAQUE
SEQUENCE:0
UID:pical060-5b71d7b1beb50a292dcf0eb3ebe5340d
DTSTAMP:20080124T135459Z
CATEGORIES:
DESCRIPTION:
SUMMARY:·RÀq¥Í¡G¡u¦VµÛ¬P²yªøÅXª½¶iªº¤H¡A¤Ï¤ñ½ó÷]¦b®l¸ô¤Wªº¤H¡A§ó®e©ö¹F¨ì¥Øªº¡C¡v
RRULE:FREQ=YEARLY;INTERVAL=1;BYMONTH=8;WKST=SU
PRIORITY:0
CLASS:PUBLIC
END:VEVENT
END:VCALENDAR
