BEGIN:VCALENDAR
CALSCALE:GREGORIAN
X-WR-TIMEZONE;VALUE=TEXT:GMT
PRODID:PEAK Corporation - piCal -
X-WR-CALNAME;VALUE=TEXT:&#8226;	°ö®Ú¡G¡u§Ú­Ì¤£À³¸Ó¹³¿ÂÃÆ¡A¥u¬O¦¬¶°­¹ª«¡F¤]¤£¥i¥H¹³»jµï¡A¥u±q¦Û¤v¸¡¤¤©âµ·¡F¦Ó­n¦V»e¸Á¤@¼Ë¡A±Ä¶°¤§«á¥[¥H¾ã²z®ø¤Æ¡A³o¼Ë¤~¯àÆC¥X­»²¢ªº¸Á»e¡C¡v
VERSION:2.0
METHOD:PUBLISH
BEGIN:VTIMEZONE
TZID:GMT
BEGIN:STANDARD
DTSTART:19390101T000000
TZOFFSETFROM:+0000
TZOFFSETTO:+0000
TZNAME:GMT
END:STANDARD
END:VTIMEZONE
BEGIN:VEVENT
DTSTART;VALUE=DATE:20080811
DTEND;VALUE=DATE:20080812
LOCATION:
TRANSP:OPAQUE
SEQUENCE:0
UID:pical060-a5dbe062f185eb6952fdbb731fbd921b
DTSTAMP:20080124T135716Z
CATEGORIES:
DESCRIPTION:
SUMMARY:&#8226;	°ö®Ú¡G¡u§Ú­Ì¤£À³¸Ó¹³¿ÂÃÆ¡A¥u¬O¦¬¶°­¹ª«¡F¤]¤£¥i¥H¹³»jµï¡A¥u±q¦Û¤v¸¡¤¤©âµ·¡F¦Ó­n¦V»e¸Á¤@¼Ë¡A±Ä¶°¤§«á¥[¥H¾ã²z®ø¤Æ¡A³o¼Ë¤~¯àÆC¥X­»²¢ªº¸Á»e¡C¡v
RRULE:FREQ=YEARLY;INTERVAL=1;BYMONTH=8;WKST=SU
PRIORITY:0
CLASS:PUBLIC
END:VEVENT
END:VCALENDAR
