BEGIN:VCALENDAR
CALSCALE:GREGORIAN
X-WR-TIMEZONE;VALUE=TEXT:GMT
PRODID:PEAK Corporation - piCal -
X-WR-CALNAME;VALUE=TEXT:§Ú¹ï¤H¦Wªº°O¾ÐÅå¤H.ªì¦¸¨£­±®É,§Ú·|¦b½Í¸Ü®É­«ÂÐ´X¹M¥Lªº¦W¦r,µM«á°O¦b¥d¤ù¤W,¨C¶g·Å²ß.-¥@¬É¾P°â«a­x¤j®v-´ö©i.ÀNª÷´µ
VERSION:2.0
METHOD:PUBLISH
BEGIN:VTIMEZONE
TZID:GMT
BEGIN:STANDARD
DTSTART:19390101T000000
TZOFFSETFROM:+0000
TZOFFSETTO:+0000
TZNAME:GMT
END:STANDARD
END:VTIMEZONE
BEGIN:VEVENT
DTSTART;VALUE=DATE:20080818
DTEND;VALUE=DATE:20080819
LOCATION:
TRANSP:OPAQUE
SEQUENCE:0
UID:pical060-79e675dd0f8cf23eff72f53bffaf5745
DTSTAMP:20080218T063904Z
CATEGORIES:
DESCRIPTION:
SUMMARY:§Ú¹ï¤H¦Wªº°O¾ÐÅå¤H.ªì¦¸¨£­±®É,§Ú·|¦b½Í¸Ü®É­«ÂÐ´X¹M¥Lªº¦W¦r,µM«á°O¦b¥d¤ù¤W,¨C¶g·Å²ß.-¥@¬É¾P°â«a­x¤j®v-´ö©i.ÀNª÷´µ
RRULE:FREQ=YEARLY;INTERVAL=1;BYMONTH=8;WKST=SU
PRIORITY:0
CLASS:PUBLIC
END:VEVENT
END:VCALENDAR
