BEGIN:VCALENDAR
CALSCALE:GREGORIAN
X-WR-TIMEZONE;VALUE=TEXT:GMT
PRODID:PEAK Corporation - piCal -
X-WR-CALNAME;VALUE=TEXT:­n¬°¦Û¤v³]­­¡A¥Í©R¯àµo´§¦h¤Ö¡A§A¥Ã»·¤£ª¾¹D¡C¤£Â_ªº¾Ç²ß»P¶W¶V¡A²×ÂI¥H«e¡A¥Í©R³£¥i¯àµL­­©µ¦ù¡C
VERSION:2.0
METHOD:PUBLISH
BEGIN:VTIMEZONE
TZID:GMT
BEGIN:STANDARD
DTSTART:19390101T000000
TZOFFSETFROM:+0000
TZOFFSETTO:+0000
TZNAME:GMT
END:STANDARD
END:VTIMEZONE
BEGIN:VEVENT
DTSTART;VALUE=DATE:20080823
DTEND;VALUE=DATE:20080824
LOCATION:
TRANSP:OPAQUE
SEQUENCE:0
UID:pical060-ddaf9ce2db064342c941d0aceb6797e5
DTSTAMP:20080218T064227Z
CATEGORIES:
DESCRIPTION:
SUMMARY:­n¬°¦Û¤v³]­­¡A¥Í©R¯àµo´§¦h¤Ö¡A§A¥Ã»·¤£ª¾¹D¡C¤£Â_ªº¾Ç²ß»P¶W¶V¡A²×ÂI¥H«e¡A¥Í©R³£¥i¯àµL­­©µ¦ù¡C
RRULE:FREQ=YEARLY;INTERVAL=1;BYMONTH=8;WKST=SU
PRIORITY:0
CLASS:PUBLIC
END:VEVENT
END:VCALENDAR
