BEGIN:VCALENDAR
CALSCALE:GREGORIAN
X-WR-TIMEZONE;VALUE=TEXT:GMT
PRODID:PEAK Corporation - piCal -
X-WR-CALNAME;VALUE=TEXT:©R¹B­Y¦w±Æ¤@­Ó¼Ä¤Hµ¹§A¡A¤]³\¬O¤@­Ó®¦½ç¡C©Ò¦³ªº°f¹Ò¡Bµh­W©M¿iÃø¡H³o¤@¤Á³£·|¥O§A­_§§¡C ¥X³B¡G­»´ä¸gÀÙ¤é³ø¡uÄÑ¥]¾ð¡v §@ªÌ¡G±i¤p¼_
VERSION:2.0
METHOD:PUBLISH
BEGIN:VTIMEZONE
TZID:GMT
BEGIN:STANDARD
DTSTART:19390101T000000
TZOFFSETFROM:+0000
TZOFFSETTO:+0000
TZNAME:GMT
END:STANDARD
END:VTIMEZONE
BEGIN:VEVENT
DTSTART;VALUE=DATE:20080828
DTEND;VALUE=DATE:20080829
LOCATION:
TRANSP:OPAQUE
SEQUENCE:0
UID:pical060-60ffab7fdc5c54210d4a99a9d7f2c965
DTSTAMP:20080218T064530Z
CATEGORIES:
DESCRIPTION:
SUMMARY:©R¹B­Y¦w±Æ¤@­Ó¼Ä¤Hµ¹§A¡A¤]³\¬O¤@­Ó®¦½ç¡C©Ò¦³ªº°f¹Ò¡Bµh­W©M¿iÃø¡H³o¤@¤Á³£·|¥O§A­_§§¡C ¥X³B¡G­»´ä¸gÀÙ¤é³ø¡uÄÑ¥]¾ð¡v §@ªÌ¡G±i¤p¼_
RRULE:FREQ=YEARLY;INTERVAL=1;BYMONTH=8;WKST=SU
PRIORITY:0
CLASS:PUBLIC
END:VEVENT
END:VCALENDAR
