BEGIN:VCALENDAR
CALSCALE:GREGORIAN
X-WR-TIMEZONE;VALUE=TEXT:GMT
PRODID:PEAK Corporation - piCal -
X-WR-CALNAME;VALUE=TEXT:·í¹J¨ì§xÃø®É¡A¥i¥H§ïÅÜ§A¹F¨ì¥Ø¼Ðªº¤è¦V¡A¦ý¤£­n§ïÅÜ§A¹F¨ì¥Ø¼Ðªº¨M©w¡C¡Kª÷§J©Ô
VERSION:2.0
METHOD:PUBLISH
BEGIN:VTIMEZONE
TZID:GMT
BEGIN:STANDARD
DTSTART:19390101T000000
TZOFFSETFROM:+0000
TZOFFSETTO:+0000
TZNAME:GMT
END:STANDARD
END:VTIMEZONE
BEGIN:VEVENT
DTSTART;VALUE=DATE:20080902
DTEND;VALUE=DATE:20080903
LOCATION:
TRANSP:OPAQUE
SEQUENCE:0
UID:pical060-83b321b8083d9512929bf28532a98c44
DTSTAMP:20080218T064847Z
CATEGORIES:
DESCRIPTION:
SUMMARY:·í¹J¨ì§xÃø®É¡A¥i¥H§ïÅÜ§A¹F¨ì¥Ø¼Ðªº¤è¦V¡A¦ý¤£­n§ïÅÜ§A¹F¨ì¥Ø¼Ðªº¨M©w¡C¡Kª÷§J©Ô
RRULE:FREQ=YEARLY;INTERVAL=1;BYMONTH=9;WKST=SU
PRIORITY:0
CLASS:PUBLIC
END:VEVENT
END:VCALENDAR
