BEGIN:VCALENDAR
CALSCALE:GREGORIAN
X-WR-TIMEZONE;VALUE=TEXT:GMT
PRODID:PEAK Corporation - piCal -
X-WR-CALNAME;VALUE=TEXT:¥Í¬¡ªº¶´©Ê¡A¤£¬O³x¤@®É¤§«i¡A¦Ó¬O¶i°h¦³¤è¡A¤£¨õ¤£¤®¡C
VERSION:2.0
METHOD:PUBLISH
BEGIN:VTIMEZONE
TZID:GMT
BEGIN:STANDARD
DTSTART:19390101T000000
TZOFFSETFROM:+0000
TZOFFSETTO:+0000
TZNAME:GMT
END:STANDARD
END:VTIMEZONE
BEGIN:VEVENT
DTSTART;VALUE=DATE:20080905
DTEND;VALUE=DATE:20080906
LOCATION:
TRANSP:OPAQUE
SEQUENCE:0
UID:pical060-511c7e55cf9e466d966530b69d7676f4
DTSTAMP:20080228T151126Z
CATEGORIES:
DESCRIPTION:
SUMMARY:¥Í¬¡ªº¶´©Ê¡A¤£¬O³x¤@®É¤§«i¡A¦Ó¬O¶i°h¦³¤è¡A¤£¨õ¤£¤®¡C
RRULE:FREQ=YEARLY;INTERVAL=1;BYMONTH=9;WKST=SU
PRIORITY:0
CLASS:PUBLIC
END:VEVENT
END:VCALENDAR
