BEGIN:VCALENDAR
CALSCALE:GREGORIAN
X-WR-TIMEZONE;VALUE=TEXT:GMT
PRODID:PEAK Corporation - piCal -
X-WR-CALNAME;VALUE=TEXT:°µ¦n¤ß±¡ªºÀô«O¡A¦^¦¬¥i¥H¥O§Ú­Ìª¾¨¬ªº¡A±Ë±ó¥O¤H­Ì¤£®®ªº¡C
VERSION:2.0
METHOD:PUBLISH
BEGIN:VTIMEZONE
TZID:GMT
BEGIN:STANDARD
DTSTART:19390101T000000
TZOFFSETFROM:+0000
TZOFFSETTO:+0000
TZNAME:GMT
END:STANDARD
END:VTIMEZONE
BEGIN:VEVENT
DTSTART;VALUE=DATE:20080906
DTEND;VALUE=DATE:20080907
LOCATION:
TRANSP:OPAQUE
SEQUENCE:0
UID:pical060-c04d49a017aa78caa409c4a004dde822
DTSTAMP:20080228T151221Z
CATEGORIES:
DESCRIPTION:
SUMMARY:°µ¦n¤ß±¡ªºÀô«O¡A¦^¦¬¥i¥H¥O§Ú­Ìª¾¨¬ªº¡A±Ë±ó¥O¤H­Ì¤£®®ªº¡C
RRULE:FREQ=YEARLY;INTERVAL=1;BYMONTH=9;WKST=SU
PRIORITY:0
CLASS:PUBLIC
END:VEVENT
END:VCALENDAR
