BEGIN:VCALENDAR
CALSCALE:GREGORIAN
X-WR-TIMEZONE;VALUE=TEXT:GMT
PRODID:PEAK Corporation - piCal -
X-WR-CALNAME;VALUE=TEXT:¦pªG§A¦Û»{«Ü¦w¥þ¡A²@µL¯ÊÂI¡A§A¤w¸g¦³¤F¤@­Ó¥H¤Wªº¯ÊÂI¡C
VERSION:2.0
METHOD:PUBLISH
BEGIN:VTIMEZONE
TZID:GMT
BEGIN:STANDARD
DTSTART:19390101T000000
TZOFFSETFROM:+0000
TZOFFSETTO:+0000
TZNAME:GMT
END:STANDARD
END:VTIMEZONE
BEGIN:VEVENT
DTSTART;VALUE=DATE:20080908
DTEND;VALUE=DATE:20080909
LOCATION:
TRANSP:OPAQUE
SEQUENCE:0
UID:pical060-e6766a20af3d8d4201fae0527289f764
DTSTAMP:20080228T151352Z
CATEGORIES:
DESCRIPTION:
SUMMARY:¦pªG§A¦Û»{«Ü¦w¥þ¡A²@µL¯ÊÂI¡A§A¤w¸g¦³¤F¤@­Ó¥H¤Wªº¯ÊÂI¡C
RRULE:FREQ=YEARLY;INTERVAL=1;BYMONTH=9;WKST=SU
PRIORITY:0
CLASS:PUBLIC
END:VEVENT
END:VCALENDAR
