BEGIN:VCALENDAR
CALSCALE:GREGORIAN
X-WR-TIMEZONE;VALUE=TEXT:GMT
PRODID:PEAK Corporation - piCal -
X-WR-CALNAME;VALUE=TEXT:±Ð¨|¤£¬O¨º¥y«U»y»¡ªº¡AÅý¿ß¾Ç·|§ì¦Ñ¹«¡AÅýª¯¾Ç·|¬Ý®a¡A¬Û¤Ïªº¡A±Ð¨|¨Ï¤H¸õ²æ©R¹Bªº´x±±¡A¦¨¬°¤@­Ó¿W¥ß¦Û¥Dªº­Ó¤H¡A¦¨¬°¯u¥¿ªº¦Û¤v¡C©Ò¿×¡u¦Û¤v¡v¨Ã¤£¬O¤@­Ó¥ý¤Ñ¤W³Q¨M©wªºªF¦è¡A©Ò¥H¡A¦¨¬°¦Û¤v¡A¥²µM¬O­ÓÁ}¨¯¦Óº©ªøªº¾úµ{¡C
VERSION:2.0
METHOD:PUBLISH
BEGIN:VTIMEZONE
TZID:GMT
BEGIN:STANDARD
DTSTART:19390101T000000
TZOFFSETFROM:+0000
TZOFFSETTO:+0000
TZNAME:GMT
END:STANDARD
END:VTIMEZONE
BEGIN:VEVENT
DTSTART;VALUE=DATE:20080925
DTEND;VALUE=DATE:20080926
LOCATION:
TRANSP:OPAQUE
SEQUENCE:0
UID:pical060-1202ef347e4929b0bd1c7271efe257b2
DTSTAMP:20080310T055129Z
CATEGORIES:
DESCRIPTION:
SUMMARY:±Ð¨|¤£¬O¨º¥y«U»y»¡ªº¡AÅý¿ß¾Ç·|§ì¦Ñ¹«¡AÅýª¯¾Ç·|¬Ý®a¡A¬Û¤Ïªº¡A±Ð¨|¨Ï¤H¸õ²æ©R¹Bªº´x±±¡A¦¨¬°¤@­Ó¿W¥ß¦Û¥Dªº­Ó¤H¡A¦¨¬°¯u¥¿ªº¦Û¤v¡C©Ò¿×¡u¦Û¤v¡v¨Ã¤£¬O¤@­Ó¥ý¤Ñ¤W³Q¨M©wªºªF¦è¡A©Ò¥H¡A¦¨¬°¦Û¤v¡A¥²µM¬O­ÓÁ}¨¯¦Óº©ªøªº¾úµ{¡C
RRULE:FREQ=YEARLY;INTERVAL=1;BYMONTH=9;WKST=SU
PRIORITY:0
CLASS:PUBLIC
END:VEVENT
END:VCALENDAR
