BEGIN:VCALENDAR
CALSCALE:GREGORIAN
X-WR-TIMEZONE;VALUE=TEXT:GMT
PRODID:PEAK Corporation - piCal -
X-WR-CALNAME;VALUE=TEXT:¥Í¬¡¥»¨­´N¬O¤@ºØ³d¥ô©M©Ó¾á¡A¥¦¨Ã«D¥þ¬O§Ö¼Ö¡C¤H¬°¤F¥Í¦s¤U¥h¡A¦³®É¥²¶·©Ó¨ü³\¦hµh­W¡F¬°¤FÀò±o¦¨¥\¡A¥²¶·¥I¥X¥N»ù¡A¬°¤F°í«ù²z©À¡A¥²¶·±µ¨ü­WÃø¡C¥Í¬¡ªº¥»½è¬O­W¡A¦Ó§Ú­Ì­n¦b­W¤¤§ä¥X¤@¨Ç§Ö¼Ö¡A¨º´N¬O¥Í¬¡ªº§Æ±æ¡u­W¤¤§@¼Ö¡v¡C
VERSION:2.0
METHOD:PUBLISH
BEGIN:VTIMEZONE
TZID:GMT
BEGIN:STANDARD
DTSTART:19390101T000000
TZOFFSETFROM:+0000
TZOFFSETTO:+0000
TZNAME:GMT
END:STANDARD
END:VTIMEZONE
BEGIN:VEVENT
DTSTART;VALUE=DATE:20081007
DTEND;VALUE=DATE:20081008
LOCATION:
TRANSP:OPAQUE
SEQUENCE:0
UID:pical060-e457ff5de57041380d0a7d6f1d6cc431
DTSTAMP:20080310T055811Z
CATEGORIES:
DESCRIPTION:
SUMMARY:¥Í¬¡¥»¨­´N¬O¤@ºØ³d¥ô©M©Ó¾á¡A¥¦¨Ã«D¥þ¬O§Ö¼Ö¡C¤H¬°¤F¥Í¦s¤U¥h¡A¦³®É¥²¶·©Ó¨ü³\¦hµh­W¡F¬°¤FÀò±o¦¨¥\¡A¥²¶·¥I¥X¥N»ù¡A¬°¤F°í«ù²z©À¡A¥²¶·±µ¨ü­WÃø¡C¥Í¬¡ªº¥»½è¬O­W¡A¦Ó§Ú­Ì­n¦b­W¤¤§ä¥X¤@¨Ç§Ö¼Ö¡A¨º´N¬O¥Í¬¡ªº§Æ±æ¡u­W¤¤§@¼Ö¡v¡C
RRULE:FREQ=YEARLY;INTERVAL=1;BYMONTH=10;WKST=SU
PRIORITY:0
CLASS:PUBLIC
END:VEVENT
END:VCALENDAR
