BEGIN:VCALENDAR
CALSCALE:GREGORIAN
X-WR-TIMEZONE;VALUE=TEXT:GMT
PRODID:PEAK Corporation - piCal -
X-WR-CALNAME;VALUE=TEXT:&#8226;	¹ï©ó¨º¨Ç­^¦~¦­³u¦Ó±ó§Ú¦Ó¥hªºªB¤Í¡A§Úªº±¡ºü»P¨ä»¡¬O´d«s¡A¤£¦p»¡¬O¼««ã¡C´N¹³¤@¸s«Ä¤l¦b¼s³õ¤W°µ¹CÀ¸¡A¤j®a¤~§Ë²M·¡¹CÀ¸³W«h¡A¤~­è©ú¥Õ¹CÀ¸ªº¦nª±¤§³B¡A¨Ã¥B¤~­è§ä¦n¦Û¤vªº¨º¤@¹Ù¡A¨ä¤¤¤@¤H«o¤£Án¤£ÅT¡A¥b§½¦Ó°h¤F¡C§A¤@®É«ç¯à¤£´jµM±o¤â¨¬µL±¹¡A¬Æ¦ÜÄ±±o³Q§O¤HÄF¤F¤@³õ¦üªº¼««ã¡C
VERSION:2.0
METHOD:PUBLISH
BEGIN:VTIMEZONE
TZID:GMT
BEGIN:STANDARD
DTSTART:19390101T000000
TZOFFSETFROM:+0000
TZOFFSETTO:+0000
TZNAME:GMT
END:STANDARD
END:VTIMEZONE
BEGIN:VEVENT
DTSTART;VALUE=DATE:20081018
DTEND;VALUE=DATE:20081019
LOCATION:
TRANSP:OPAQUE
SEQUENCE:0
UID:pical060-3f9315d3b0cb341216b3f39063a698bd
DTSTAMP:20080319T082131Z
CATEGORIES:
DESCRIPTION:
SUMMARY:&#8226;	¹ï©ó¨º¨Ç­^¦~¦­³u¦Ó±ó§Ú¦Ó¥hªºªB¤Í¡A§Úªº±¡ºü»P¨ä»¡¬O´d«s¡A¤£¦p»¡¬O¼««ã¡C´N¹³¤@¸s«Ä¤l¦b¼s³õ¤W°µ¹CÀ¸¡A¤j®a¤~§Ë²M·¡¹CÀ¸³W«h¡A¤~­è©ú¥Õ¹CÀ¸ªº¦nª±¤§³B¡A¨Ã¥B¤~­è§ä¦n¦Û¤vªº¨º¤@¹Ù¡A¨ä¤¤¤@¤H«o¤£Án¤£ÅT¡A¥b§½¦Ó°h¤F¡C§A¤@®É«ç¯à¤£´jµM±o¤â¨¬µL±¹¡A¬Æ¦ÜÄ±±o³Q§O¤HÄF¤F¤@³õ¦üªº¼««ã¡C
RRULE:FREQ=YEARLY;INTERVAL=1;BYMONTH=10;WKST=SU
PRIORITY:0
CLASS:PUBLIC
END:VEVENT
END:VCALENDAR
