BEGIN:VCALENDAR
CALSCALE:GREGORIAN
X-WR-TIMEZONE;VALUE=TEXT:GMT
PRODID:PEAK Corporation - piCal -
X-WR-CALNAME;VALUE=TEXT:´¼Ån¡A¬O¦]¤H¦¨¨Æªº¶H¼x¡A¥Nªí¤@­ÓÁo©úµ´­Ûªº¤H©Ò³]­pªº¡A¦b§x¹Ò¤¤¬ð³òªº©_´¼¥©¿Ñ¡A¥¦³q±`¬O¤@±i¤£«öµP²z©Ò¥XªºµP¡C
VERSION:2.0
METHOD:PUBLISH
BEGIN:VTIMEZONE
TZID:GMT
BEGIN:STANDARD
DTSTART:19390101T000000
TZOFFSETFROM:+0000
TZOFFSETTO:+0000
TZNAME:GMT
END:STANDARD
END:VTIMEZONE
BEGIN:VEVENT
DTSTART;VALUE=DATE:20081020
DTEND;VALUE=DATE:20081021
LOCATION:
TRANSP:OPAQUE
SEQUENCE:0
UID:pical060-982842c7db9f1330aad76fddcc73f286
DTSTAMP:20080319T082401Z
CATEGORIES:
DESCRIPTION:
SUMMARY:´¼Ån¡A¬O¦]¤H¦¨¨Æªº¶H¼x¡A¥Nªí¤@­ÓÁo©úµ´­Ûªº¤H©Ò³]­pªº¡A¦b§x¹Ò¤¤¬ð³òªº©_´¼¥©¿Ñ¡A¥¦³q±`¬O¤@±i¤£«öµP²z©Ò¥XªºµP¡C
RRULE:FREQ=YEARLY;INTERVAL=1;BYMONTH=10;WKST=SU
PRIORITY:0
CLASS:PUBLIC
END:VEVENT
END:VCALENDAR
