BEGIN:VCALENDAR
CALSCALE:GREGORIAN
X-WR-TIMEZONE;VALUE=TEXT:GMT
PRODID:PEAK Corporation - piCal -
X-WR-CALNAME;VALUE=TEXT:¦bÆg³\¤Uªø¤jªº«Ä¤lÀ´±o¦Û·R¡C¦b§åµû¤¤ªø¤jªº«Ä¤l³ßÅw¥¸³d§O¤H¡C·M²Âªº¤÷¥À±`¥Î·Ð¨¥¡A¿E°_«Ä¤l¤Ï§Ü¤ß¡C
VERSION:2.0
METHOD:PUBLISH
BEGIN:VTIMEZONE
TZID:GMT
BEGIN:STANDARD
DTSTART:19390101T000000
TZOFFSETFROM:+0000
TZOFFSETTO:+0000
TZNAME:GMT
END:STANDARD
END:VTIMEZONE
BEGIN:VEVENT
DTSTART;VALUE=DATE:20081104
DTEND;VALUE=DATE:20081105
LOCATION:
TRANSP:OPAQUE
SEQUENCE:0
UID:pical060-1ff86043de6b2a5db04c29a94cce1cea
DTSTAMP:20080319T083415Z
CATEGORIES:
DESCRIPTION:
SUMMARY:¦bÆg³\¤Uªø¤jªº«Ä¤lÀ´±o¦Û·R¡C¦b§åµû¤¤ªø¤jªº«Ä¤l³ßÅw¥¸³d§O¤H¡C·M²Âªº¤÷¥À±`¥Î·Ð¨¥¡A¿E°_«Ä¤l¤Ï§Ü¤ß¡C
RRULE:FREQ=YEARLY;INTERVAL=1;BYMONTH=11;WKST=SU
PRIORITY:0
CLASS:PUBLIC
END:VEVENT
END:VCALENDAR
