BEGIN:VCALENDAR
CALSCALE:GREGORIAN
X-WR-TIMEZONE;VALUE=TEXT:GMT
PRODID:PEAK Corporation - piCal -
X-WR-CALNAME;VALUE=TEXT:¨S¦³µê¦k¡A¿w¹ê¥Í¬¡ªººA«×´N¬O²b¡A´N¬O©Ò¿×ªº¡uµL¤ß¡v¡C¡u«ê«ê¥Î¤ß®É¡A«ê«êµL¤ß¥Î¡AµL¤ß¬B«ê¥Î¡A±`¥Î«ê«êµL¡C¡v
VERSION:2.0
METHOD:PUBLISH
BEGIN:VTIMEZONE
TZID:GMT
BEGIN:STANDARD
DTSTART:19390101T000000
TZOFFSETFROM:+0000
TZOFFSETTO:+0000
TZNAME:GMT
END:STANDARD
END:VTIMEZONE
BEGIN:VEVENT
DTSTART;VALUE=DATE:20081106
DTEND;VALUE=DATE:20081107
LOCATION:
TRANSP:OPAQUE
SEQUENCE:0
UID:pical060-9e44c4276286cf20f87680cf10247f51
DTSTAMP:20080319T083529Z
CATEGORIES:
DESCRIPTION:
SUMMARY:¨S¦³µê¦k¡A¿w¹ê¥Í¬¡ªººA«×´N¬O²b¡A´N¬O©Ò¿×ªº¡uµL¤ß¡v¡C¡u«ê«ê¥Î¤ß®É¡A«ê«êµL¤ß¥Î¡AµL¤ß¬B«ê¥Î¡A±`¥Î«ê«êµL¡C¡v
RRULE:FREQ=YEARLY;INTERVAL=1;BYMONTH=11;WKST=SU
PRIORITY:0
CLASS:PUBLIC
END:VEVENT
END:VCALENDAR
