BEGIN:VCALENDAR
CALSCALE:GREGORIAN
X-WR-TIMEZONE;VALUE=TEXT:GMT
PRODID:PEAK Corporation - piCal -
X-WR-CALNAME;VALUE=TEXT:¤H¥Í«Üµu¡A§Ú­Ì¬O¨Ó¥Í¬¡¡A¦Ó¤£¬O¨Óª§¹Üªº¡C¬O¨Ó©Ý®i©¯ºÖ¡A¦Ó¤£¬O¨Ó©¼¦¹§é¿iªº¡C 
VERSION:2.0
METHOD:PUBLISH
BEGIN:VTIMEZONE
TZID:GMT
BEGIN:STANDARD
DTSTART:19390101T000000
TZOFFSETFROM:+0000
TZOFFSETTO:+0000
TZNAME:GMT
END:STANDARD
END:VTIMEZONE
BEGIN:VEVENT
DTSTART;VALUE=DATE:20081107
DTEND;VALUE=DATE:20081108
LOCATION:
TRANSP:OPAQUE
SEQUENCE:0
UID:pical060-72157a2c5ec5570cb3c97d2fc384e1ed
DTSTAMP:20080319T083557Z
CATEGORIES:
DESCRIPTION:
SUMMARY:¤H¥Í«Üµu¡A§Ú­Ì¬O¨Ó¥Í¬¡¡A¦Ó¤£¬O¨Óª§¹Üªº¡C¬O¨Ó©Ý®i©¯ºÖ¡A¦Ó¤£¬O¨Ó©¼¦¹§é¿iªº¡C 
RRULE:FREQ=YEARLY;INTERVAL=1;BYMONTH=11;WKST=SU
PRIORITY:0
CLASS:PUBLIC
END:VEVENT
END:VCALENDAR
