BEGIN:VCALENDAR
CALSCALE:GREGORIAN
X-WR-TIMEZONE;VALUE=TEXT:GMT
PRODID:PEAK Corporation - piCal -
X-WR-CALNAME;VALUE=TEXT:¤l¤ê¡G¡u§g¤l¦³¤T¼Ö¡G¤÷¥À­Ñ¦s¡A¥S§ÌµL¬G¡A¤@¼Ö¤]¡C¥õ¤£·\©ó¤Ñ¡A­Á¤£Ì©©ó¤H¡A¤G¼Ö¤]¡C±o¤Ñ¤U­^¤~¦Ó±Ð¨|¤§¡A¤T¼Ö¤]¡C
VERSION:2.0
METHOD:PUBLISH
BEGIN:VTIMEZONE
TZID:GMT
BEGIN:STANDARD
DTSTART:19390101T000000
TZOFFSETFROM:+0000
TZOFFSETTO:+0000
TZNAME:GMT
END:STANDARD
END:VTIMEZONE
BEGIN:VEVENT
DTSTART;VALUE=DATE:20081108
DTEND;VALUE=DATE:20081109
LOCATION:
TRANSP:OPAQUE
SEQUENCE:0
UID:pical060-65b5cba2a98214a3dcbf53f4709b4dc4
DTSTAMP:20080319T083712Z
CATEGORIES:
DESCRIPTION:
SUMMARY:¤l¤ê¡G¡u§g¤l¦³¤T¼Ö¡G¤÷¥À­Ñ¦s¡A¥S§ÌµL¬G¡A¤@¼Ö¤]¡C¥õ¤£·\©ó¤Ñ¡A­Á¤£Ì©©ó¤H¡A¤G¼Ö¤]¡C±o¤Ñ¤U­^¤~¦Ó±Ð¨|¤§¡A¤T¼Ö¤]¡C
RRULE:FREQ=YEARLY;INTERVAL=1;BYMONTH=11;WKST=SU
PRIORITY:0
CLASS:PUBLIC
END:VEVENT
END:VCALENDAR
