BEGIN:VCALENDAR
CALSCALE:GREGORIAN
X-WR-TIMEZONE;VALUE=TEXT:GMT
PRODID:PEAK Corporation - piCal -
X-WR-CALNAME;VALUE=TEXT:¾Ç¾i¤£¨¬¡A©|¥i¾a«á¤Ñªº§V¤O¡A¥[¥H¸É±j¡A¦ý¤H®æ¤W¥X²{ªº·å²««o¨¬¥H»G»k¾ã­Ó¥ø·~¡C
VERSION:2.0
METHOD:PUBLISH
BEGIN:VTIMEZONE
TZID:GMT
BEGIN:STANDARD
DTSTART:19390101T000000
TZOFFSETFROM:+0000
TZOFFSETTO:+0000
TZNAME:GMT
END:STANDARD
END:VTIMEZONE
BEGIN:VEVENT
DTSTART;VALUE=DATE:20081109
DTEND;VALUE=DATE:20081110
LOCATION:
TRANSP:OPAQUE
SEQUENCE:0
UID:pical060-2a3cc046c5a44f54584de22f849ca153
DTSTAMP:20080319T083739Z
CATEGORIES:
DESCRIPTION:
SUMMARY:¾Ç¾i¤£¨¬¡A©|¥i¾a«á¤Ñªº§V¤O¡A¥[¥H¸É±j¡A¦ý¤H®æ¤W¥X²{ªº·å²««o¨¬¥H»G»k¾ã­Ó¥ø·~¡C
RRULE:FREQ=YEARLY;INTERVAL=1;BYMONTH=11;WKST=SU
PRIORITY:0
CLASS:PUBLIC
END:VEVENT
END:VCALENDAR
