BEGIN:VCALENDAR
CALSCALE:GREGORIAN
X-WR-TIMEZONE;VALUE=TEXT:GMT
PRODID:PEAK Corporation - piCal -
X-WR-CALNAME;VALUE=TEXT:¼ÖÆ[¬O¤@­º¿E©ùÀu¬üªº¶i¦æ¦±¡A¥¦¯à®É¨è¹ª»RµÛ§A¦V¨Æ·~ªº¤j¸ô¤W«i²r«e¶i¡C
VERSION:2.0
METHOD:PUBLISH
BEGIN:VTIMEZONE
TZID:GMT
BEGIN:STANDARD
DTSTART:19390101T000000
TZOFFSETFROM:+0000
TZOFFSETTO:+0000
TZNAME:GMT
END:STANDARD
END:VTIMEZONE
BEGIN:VEVENT
DTSTART;VALUE=DATE:20081110
DTEND;VALUE=DATE:20081111
LOCATION:
TRANSP:OPAQUE
SEQUENCE:1
UID:pical060-0bac70d4ab94f26296dff49ebcd12ffc
DTSTAMP:20080327T114832Z
CATEGORIES:
DESCRIPTION:
SUMMARY:¼ÖÆ[¬O¤@­º¿E©ùÀu¬üªº¶i¦æ¦±¡A¥¦¯à®É¨è¹ª»RµÛ§A¦V¨Æ·~ªº¤j¸ô¤W«i²r«e¶i¡C
RRULE:FREQ=YEARLY;INTERVAL=1;BYMONTH=11;WKST=SU
PRIORITY:0
CLASS:PUBLIC
END:VEVENT
END:VCALENDAR
