BEGIN:VCALENDAR
CALSCALE:GREGORIAN
X-WR-TIMEZONE;VALUE=TEXT:GMT
PRODID:PEAK Corporation - piCal -
X-WR-CALNAME;VALUE=TEXT:¯u¥¿¼ÖÆ[ªº¤H¡A¤£¦ý¤£¬È©Ä§xÃø¡A¦Ó¥BÀH®ÉÀH¦a¦b§xÃøªº¨ë¿E©M°ÝÃD¤¤¡Aµo±¸´¼¼z§§¤j¦Û¤v¡C
VERSION:2.0
METHOD:PUBLISH
BEGIN:VTIMEZONE
TZID:GMT
BEGIN:STANDARD
DTSTART:19390101T000000
TZOFFSETFROM:+0000
TZOFFSETTO:+0000
TZNAME:GMT
END:STANDARD
END:VTIMEZONE
BEGIN:VEVENT
DTSTART;VALUE=DATE:20081111
DTEND;VALUE=DATE:20081112
LOCATION:
TRANSP:OPAQUE
SEQUENCE:1
UID:pical060-805e66a33d3438a3af9e377fb2126bdd
DTSTAMP:20080327T114857Z
CATEGORIES:
DESCRIPTION:
SUMMARY:¯u¥¿¼ÖÆ[ªº¤H¡A¤£¦ý¤£¬È©Ä§xÃø¡A¦Ó¥BÀH®ÉÀH¦a¦b§xÃøªº¨ë¿E©M°ÝÃD¤¤¡Aµo±¸´¼¼z§§¤j¦Û¤v¡C
RRULE:FREQ=YEARLY;INTERVAL=1;BYMONTH=11;WKST=SU
PRIORITY:0
CLASS:PUBLIC
END:VEVENT
END:VCALENDAR
