BEGIN:VCALENDAR
CALSCALE:GREGORIAN
X-WR-TIMEZONE;VALUE=TEXT:GMT
PRODID:PEAK Corporation - piCal -
X-WR-CALNAME;VALUE=TEXT:¬¡¦b§Æ±æ¤¤ªº¤H¬O©¯ºÖªº¡A¦Û¦bªº¡A¥R¹êªº¡C¤@­Ó¦³¾y¤Oªº¤H¬O¨}µ½ªº¡AÁ¾¨õªº¡A¤W¶iªº¡A°í±jªº¡C
VERSION:2.0
METHOD:PUBLISH
BEGIN:VTIMEZONE
TZID:GMT
BEGIN:STANDARD
DTSTART:19390101T000000
TZOFFSETFROM:+0000
TZOFFSETTO:+0000
TZNAME:GMT
END:STANDARD
END:VTIMEZONE
BEGIN:VEVENT
DTSTART;VALUE=DATE:20081114
DTEND;VALUE=DATE:20081115
LOCATION:
TRANSP:OPAQUE
SEQUENCE:1
UID:pical060-30f444da2535c1f63793496dc6eaf989
DTSTAMP:20080327T114931Z
CATEGORIES:
DESCRIPTION:
SUMMARY:¬¡¦b§Æ±æ¤¤ªº¤H¬O©¯ºÖªº¡A¦Û¦bªº¡A¥R¹êªº¡C¤@­Ó¦³¾y¤Oªº¤H¬O¨}µ½ªº¡AÁ¾¨õªº¡A¤W¶iªº¡A°í±jªº¡C
RRULE:FREQ=YEARLY;INTERVAL=1;BYMONTH=11;WKST=SU
PRIORITY:0
CLASS:PUBLIC
END:VEVENT
END:VCALENDAR
