BEGIN:VCALENDAR
CALSCALE:GREGORIAN
X-WR-TIMEZONE;VALUE=TEXT:GMT
PRODID:PEAK Corporation - piCal -
X-WR-CALNAME;VALUE=TEXT:¹ï­Ó¤H¦Ó¨¥¡A°²¨Ï§A¬Ã·R¦Û¤vªº¼¥¼©¡A¬Ã±¤¦Û¤vªº²z·Q¡A¬Ã©À¨ºÅý§A¤º¤ß±ª°Êªº­µ¼Ö¡A¨ºÅý§A¤ßÆF¨H¾Kªº¬ü·P¡B¨ºÅý§A¤ß«äÅÖ¥©ªº·R·N¡A¨º»ò§Aªº¤H¥Í¦ÛµM¥Rº¡¤FÅw´r¡A§Aªº¥@¬É¦ÛµM¥Rº¡¤F¥ú½÷¡C
VERSION:2.0
METHOD:PUBLISH
BEGIN:VTIMEZONE
TZID:GMT
BEGIN:STANDARD
DTSTART:19390101T000000
TZOFFSETFROM:+0000
TZOFFSETTO:+0000
TZNAME:GMT
END:STANDARD
END:VTIMEZONE
BEGIN:VEVENT
DTSTART;VALUE=DATE:20081119
DTEND;VALUE=DATE:20081120
LOCATION:
TRANSP:OPAQUE
SEQUENCE:1
UID:pical060-0731224eaf9a0fbfa64d667341d698a8
DTSTAMP:20080327T115030Z
CATEGORIES:
DESCRIPTION:
SUMMARY:¹ï­Ó¤H¦Ó¨¥¡A°²¨Ï§A¬Ã·R¦Û¤vªº¼¥¼©¡A¬Ã±¤¦Û¤vªº²z·Q¡A¬Ã©À¨ºÅý§A¤º¤ß±ª°Êªº­µ¼Ö¡A¨ºÅý§A¤ßÆF¨H¾Kªº¬ü·P¡B¨ºÅý§A¤ß«äÅÖ¥©ªº·R·N¡A¨º»ò§Aªº¤H¥Í¦ÛµM¥Rº¡¤FÅw´r¡A§Aªº¥@¬É¦ÛµM¥Rº¡¤F¥ú½÷¡C
RRULE:FREQ=YEARLY;INTERVAL=1;BYMONTH=11;WKST=SU
PRIORITY:0
CLASS:PUBLIC
END:VEVENT
END:VCALENDAR
