BEGIN:VCALENDAR
CALSCALE:GREGORIAN
X-WR-TIMEZONE;VALUE=TEXT:GMT
PRODID:PEAK Corporation - piCal -
X-WR-CALNAME;VALUE=TEXT:¦¨¥\ªº¤H¥Í´N¬O¡G¡u·í§A¬¡µÛªº®É­Ô¡A©Ò¦³ªº¤H³£·R§A¡F·í§A¦º¥hªº®É­Ô¡A©Ò¦³ªº¤H³£±{±¤¡C¡v
VERSION:2.0
METHOD:PUBLISH
BEGIN:VTIMEZONE
TZID:GMT
BEGIN:STANDARD
DTSTART:19390101T000000
TZOFFSETFROM:+0000
TZOFFSETTO:+0000
TZNAME:GMT
END:STANDARD
END:VTIMEZONE
BEGIN:VEVENT
DTSTART;VALUE=DATE:20081121
DTEND;VALUE=DATE:20081122
LOCATION:
TRANSP:OPAQUE
SEQUENCE:1
UID:pical060-ea1b59b265f2b7770ffb855f7bde3d1e
DTSTAMP:20080327T115101Z
CATEGORIES:
DESCRIPTION:
SUMMARY:¦¨¥\ªº¤H¥Í´N¬O¡G¡u·í§A¬¡µÛªº®É­Ô¡A©Ò¦³ªº¤H³£·R§A¡F·í§A¦º¥hªº®É­Ô¡A©Ò¦³ªº¤H³£±{±¤¡C¡v
RRULE:FREQ=YEARLY;INTERVAL=1;BYMONTH=11;WKST=SU
PRIORITY:0
CLASS:PUBLIC
END:VEVENT
END:VCALENDAR
