BEGIN:VCALENDAR
CALSCALE:GREGORIAN
X-WR-TIMEZONE;VALUE=TEXT:GMT
PRODID:PEAK Corporation - piCal -
X-WR-CALNAME;VALUE=TEXT:¦P²z¤ß¬O¨}µ½ªº¤H»Úªº°_ÂI¡A¤@¥÷¦h¬°§O¤HµÛ·Qªº¤ß¡C¥¦¹³¬K­·¤@¼Ë¡AÅý¤HÄ±±o·Å·x¡C
VERSION:2.0
METHOD:PUBLISH
BEGIN:VTIMEZONE
TZID:GMT
BEGIN:STANDARD
DTSTART:19390101T000000
TZOFFSETFROM:+0000
TZOFFSETTO:+0000
TZNAME:GMT
END:STANDARD
END:VTIMEZONE
BEGIN:VEVENT
DTSTART;VALUE=DATE:20081122
DTEND;VALUE=DATE:20081123
LOCATION:
TRANSP:OPAQUE
SEQUENCE:1
UID:pical060-e5a89ca3602588fd172243ee69e0fb92
DTSTAMP:20080327T115116Z
CATEGORIES:
DESCRIPTION:
SUMMARY:¦P²z¤ß¬O¨}µ½ªº¤H»Úªº°_ÂI¡A¤@¥÷¦h¬°§O¤HµÛ·Qªº¤ß¡C¥¦¹³¬K­·¤@¼Ë¡AÅý¤HÄ±±o·Å·x¡C
RRULE:FREQ=YEARLY;INTERVAL=1;BYMONTH=11;WKST=SU
PRIORITY:0
CLASS:PUBLIC
END:VEVENT
END:VCALENDAR
