BEGIN:VCALENDAR
CALSCALE:GREGORIAN
X-WR-TIMEZONE;VALUE=TEXT:GMT
PRODID:PEAK Corporation - piCal -
X-WR-CALNAME;VALUE=TEXT:Áo©ú¶Ô¾Äªº¤H¡A¨É¨ü¤u§@¡F·MÃ¨Ãi´²ªº¤H¡A°kÁ×¤u§@¡C
VERSION:2.0
METHOD:PUBLISH
BEGIN:VTIMEZONE
TZID:GMT
BEGIN:STANDARD
DTSTART:19390101T000000
TZOFFSETFROM:+0000
TZOFFSETTO:+0000
TZNAME:GMT
END:STANDARD
END:VTIMEZONE
BEGIN:VEVENT
DTSTART;VALUE=DATE:20081129
DTEND;VALUE=DATE:20081130
LOCATION:
TRANSP:OPAQUE
SEQUENCE:1
UID:pical060-6bb37a0f20d04b2b56187d7631882afb
DTSTAMP:20080327T115235Z
CATEGORIES:
DESCRIPTION:
SUMMARY:Áo©ú¶Ô¾Äªº¤H¡A¨É¨ü¤u§@¡F·MÃ¨Ãi´²ªº¤H¡A°kÁ×¤u§@¡C
RRULE:FREQ=YEARLY;INTERVAL=1;BYMONTH=11;WKST=SU
PRIORITY:0
CLASS:PUBLIC
END:VEVENT
END:VCALENDAR
