BEGIN:VCALENDAR
CALSCALE:GREGORIAN
X-WR-TIMEZONE;VALUE=TEXT:GMT
PRODID:PEAK Corporation - piCal -
X-WR-CALNAME;VALUE=TEXT:§Ú­Ì¬Ý¤£¶¶²´ªº¤H·U¨Ó·U¦h¡A«h¬Ý§Ú­Ì¶¶²´ªº¤H´N·U¨Ó·U¤Ö¡C
VERSION:2.0
METHOD:PUBLISH
BEGIN:VTIMEZONE
TZID:GMT
BEGIN:STANDARD
DTSTART:19390101T000000
TZOFFSETFROM:+0000
TZOFFSETTO:+0000
TZNAME:GMT
END:STANDARD
END:VTIMEZONE
BEGIN:VEVENT
DTSTART;VALUE=DATE:20081130
DTEND;VALUE=DATE:20081201
LOCATION:
TRANSP:OPAQUE
SEQUENCE:1
UID:pical060-918cf618ce15fa08bffcbed5605fd472
DTSTAMP:20080327T115245Z
CATEGORIES:
DESCRIPTION:
SUMMARY:§Ú­Ì¬Ý¤£¶¶²´ªº¤H·U¨Ó·U¦h¡A«h¬Ý§Ú­Ì¶¶²´ªº¤H´N·U¨Ó·U¤Ö¡C
RRULE:FREQ=YEARLY;INTERVAL=1;BYMONTH=12;WKST=SU
PRIORITY:0
CLASS:PUBLIC
END:VEVENT
END:VCALENDAR
