BEGIN:VCALENDAR
CALSCALE:GREGORIAN
X-WR-TIMEZONE;VALUE=TEXT:GMT
PRODID:PEAK Corporation - piCal -
X-WR-CALNAME;VALUE=TEXT:ª÷¿ú¬O¤@­ÓµL©³ªº¬}¡A·G®¢¡B¤Ñ¨}¡B¯u²z³£·|¨H·Ä¦b³o¸Ì­±¡C--°ª´µ¹p
VERSION:2.0
METHOD:PUBLISH
BEGIN:VTIMEZONE
TZID:GMT
BEGIN:STANDARD
DTSTART:19390101T000000
TZOFFSETFROM:+0000
TZOFFSETTO:+0000
TZNAME:GMT
END:STANDARD
END:VTIMEZONE
BEGIN:VEVENT
DTSTART;VALUE=DATE:20081205
DTEND;VALUE=DATE:20081206
LOCATION:
TRANSP:OPAQUE
SEQUENCE:1
UID:pical060-67dd5722649e8fb5dbee355aac8d1ae1
DTSTAMP:20080327T115338Z
CATEGORIES:
DESCRIPTION:
SUMMARY:ª÷¿ú¬O¤@­ÓµL©³ªº¬}¡A·G®¢¡B¤Ñ¨}¡B¯u²z³£·|¨H·Ä¦b³o¸Ì­±¡C--°ª´µ¹p
RRULE:FREQ=YEARLY;INTERVAL=1;BYMONTH=12;WKST=SU
PRIORITY:0
CLASS:PUBLIC
END:VEVENT
END:VCALENDAR
