BEGIN:VCALENDAR
CALSCALE:GREGORIAN
X-WR-TIMEZONE;VALUE=TEXT:GMT
PRODID:PEAK Corporation - piCal -
X-WR-CALNAME;VALUE=TEXT:¬°¤°»ò§Úªº·PÄ±¥²¶·¬O¨ú¨M©ó§O¤H¸£®ü¤¤ªº·Qªk¡H--·RÀq¥Í
VERSION:2.0
METHOD:PUBLISH
BEGIN:VTIMEZONE
TZID:GMT
BEGIN:STANDARD
DTSTART:19390101T000000
TZOFFSETFROM:+0000
TZOFFSETTO:+0000
TZNAME:GMT
END:STANDARD
END:VTIMEZONE
BEGIN:VEVENT
DTSTART;VALUE=DATE:20081208
DTEND;VALUE=DATE:20081209
LOCATION:
TRANSP:OPAQUE
SEQUENCE:1
UID:pical060-189e7cd6efbc884db19f1917e7f0899e
DTSTAMP:20080327T115413Z
CATEGORIES:
DESCRIPTION:
SUMMARY:¬°¤°»ò§Úªº·PÄ±¥²¶·¬O¨ú¨M©ó§O¤H¸£®ü¤¤ªº·Qªk¡H--·RÀq¥Í
RRULE:FREQ=YEARLY;INTERVAL=1;BYMONTH=12;WKST=SU
PRIORITY:0
CLASS:PUBLIC
END:VEVENT
END:VCALENDAR
