BEGIN:VCALENDAR
CALSCALE:GREGORIAN
X-WR-TIMEZONE;VALUE=TEXT:GMT
PRODID:PEAK Corporation - piCal -
X-WR-CALNAME;VALUE=TEXT:&#8226;	¥¢¥hª÷¿úªº¤H¡A¥¢¥h«Ü¦h¡F¥¢¥hªB¤Íªº¤H¡A¥¢¥h§ó¦h¡F¥¢¥h«H¤ßªº¤H¡A¥¢¥h©Ò¦³¡C
VERSION:2.0
METHOD:PUBLISH
BEGIN:VTIMEZONE
TZID:GMT
BEGIN:STANDARD
DTSTART:19390101T000000
TZOFFSETFROM:+0000
TZOFFSETTO:+0000
TZNAME:GMT
END:STANDARD
END:VTIMEZONE
BEGIN:VEVENT
DTSTART;VALUE=DATE:20081209
DTEND;VALUE=DATE:20081210
LOCATION:
TRANSP:OPAQUE
SEQUENCE:1
UID:pical060-e871465daf4d436f6e4b36fdeb163c3f
DTSTAMP:20080327T115422Z
CATEGORIES:
DESCRIPTION:
SUMMARY:&#8226;	¥¢¥hª÷¿úªº¤H¡A¥¢¥h«Ü¦h¡F¥¢¥hªB¤Íªº¤H¡A¥¢¥h§ó¦h¡F¥¢¥h«H¤ßªº¤H¡A¥¢¥h©Ò¦³¡C
RRULE:FREQ=YEARLY;INTERVAL=1;BYMONTH=12;WKST=SU
PRIORITY:0
CLASS:PUBLIC
END:VEVENT
END:VCALENDAR
